Package: tRNAdbImport Version: 1.25.0 Command: rm -rf tRNAdbImport.buildbin-libdir && mkdir tRNAdbImport.buildbin-libdir && E:\biocbuild\bbs-3.21-bioc\R\bin\R.exe CMD INSTALL --build --library=tRNAdbImport.buildbin-libdir tRNAdbImport_1.25.0.tar.gz StartedAt: 2025-02-19 08:36:57 -0500 (Wed, 19 Feb 2025) EndedAt: 2025-02-19 08:37:38 -0500 (Wed, 19 Feb 2025) EllapsedTime: 40.3 seconds RetCode: 0 Status: OK PackageFile: tRNAdbImport_1.25.0.zip PackageFileSize: 380.7 KiB