Package: tRNA Version: 1.25.0 Command: /home/biocbuild/bbs-3.21-bioc/R/bin/R CMD INSTALL tRNA StartedAt: 2025-02-20 15:51:36 -0500 (Thu, 20 Feb 2025) EndedAt: 2025-02-20 15:51:51 -0500 (Thu, 20 Feb 2025) EllapsedTime: 14.8 seconds RetCode: 0 Status: OK