Package: tLOH Version: 1.15.0 Command: E:\biocbuild\bbs-3.21-bioc\R\bin\R.exe CMD INSTALL tLOH StartedAt: 2025-02-19 16:43:26 -0500 (Wed, 19 Feb 2025) EndedAt: 2025-02-19 16:44:19 -0500 (Wed, 19 Feb 2025) EllapsedTime: 52.8 seconds RetCode: 0 Status: OK