Package: tLOH Version: 1.15.0 Command: E:\biocbuild\bbs-3.21-bioc\R\bin\R.exe CMD check --no-multiarch --install=check:tLOH.install-out.txt --library=E:\biocbuild\bbs-3.21-bioc\R\library --no-vignettes --timings tLOH_1.15.0.tar.gz StartedAt: 2025-02-20 06:16:54 -0500 (Thu, 20 Feb 2025) EndedAt: 2025-02-20 06:30:03 -0500 (Thu, 20 Feb 2025) EllapsedTime: 789.4 seconds RetCode: 0 Status: OK CheckDir: tLOH.Rcheck Warnings: 0