Package: tLOH Version: 1.15.0 Command: /Library/Frameworks/R.framework/Resources/bin/R CMD build --keep-empty-dirs --no-resave-data tLOH StartedAt: 2025-02-19 18:31:49 -0500 (Wed, 19 Feb 2025) EndedAt: 2025-02-19 18:33:01 -0500 (Wed, 19 Feb 2025) EllapsedTime: 72.0 seconds RetCode: 0 Status: OK PackageFile: tLOH_1.15.0.tar.gz PackageFileSize: 2.434 MiB