Package: tLOH Version: 1.15.0 Command: /Library/Frameworks/R.framework/Resources/bin/R CMD build --keep-empty-dirs --no-resave-data tLOH StartedAt: 2025-02-20 17:48:24 -0500 (Thu, 20 Feb 2025) EndedAt: 2025-02-20 17:48:53 -0500 (Thu, 20 Feb 2025) EllapsedTime: 28.4 seconds RetCode: 0 Status: OK PackageFile: tLOH_1.15.0.tar.gz PackageFileSize: 2.446 MiB