Package: systemPipeTools Version: 1.15.0 Command: E:\biocbuild\bbs-3.21-bioc\R\bin\R.exe CMD INSTALL systemPipeTools StartedAt: 2025-02-19 16:49:57 -0500 (Wed, 19 Feb 2025) EndedAt: 2025-02-19 16:50:26 -0500 (Wed, 19 Feb 2025) EllapsedTime: 29.7 seconds RetCode: 0 Status: OK