Package: systemPipeTools Version: 1.15.0 Command: chmod a+r systemPipeTools -R && E:\biocbuild\bbs-3.21-bioc\R\bin\R.exe CMD build --keep-empty-dirs --no-resave-data systemPipeTools StartedAt: 2025-02-19 22:01:33 -0500 (Wed, 19 Feb 2025) EndedAt: 2025-02-19 22:03:16 -0500 (Wed, 19 Feb 2025) EllapsedTime: 102.6 seconds RetCode: 0 Status: OK PackageFile: systemPipeTools_1.15.0.tar.gz PackageFileSize: 548.2 KiB