Package: systemPipeTools Version: 1.15.0 Command: /Library/Frameworks/R.framework/Resources/bin/R CMD INSTALL systemPipeTools StartedAt: 2025-02-19 15:39:49 -0500 (Wed, 19 Feb 2025) EndedAt: 2025-02-19 15:40:23 -0500 (Wed, 19 Feb 2025) EllapsedTime: 34.4 seconds RetCode: 0 Status: OK