Package: systemPipeR Version: 2.13.0 Command: /Library/Frameworks/R.framework/Resources/bin/R CMD build --keep-empty-dirs --no-resave-data systemPipeR StartedAt: 2025-02-19 18:28:43 -0500 (Wed, 19 Feb 2025) EndedAt: 2025-02-19 18:30:26 -0500 (Wed, 19 Feb 2025) EllapsedTime: 102.9 seconds RetCode: 0 Status: OK PackageFile: systemPipeR_2.13.0.tar.gz PackageFileSize: 6.497 MiB