Package: syntenet Version: 1.9.1 Command: chmod a+r syntenet -R && E:\biocbuild\bbs-3.21-bioc\R\bin\R.exe CMD build --keep-empty-dirs --no-resave-data syntenet StartedAt: 2025-02-20 22:10:43 -0500 (Thu, 20 Feb 2025) EndedAt: 2025-02-20 22:13:35 -0500 (Thu, 20 Feb 2025) EllapsedTime: 171.4 seconds RetCode: 0 Status: OK PackageFile: syntenet_1.9.1.tar.gz PackageFileSize: 2.113 MiB