Package: syntenet Version: 1.9.1 Command: /home/biocbuild/bbs-3.21-bioc/R/bin/R CMD check --install=check:syntenet.install-out.txt --library=/home/biocbuild/bbs-3.21-bioc/R/site-library --timings syntenet_1.9.1.tar.gz StartedAt: 2025-02-21 02:27:36 -0500 (Fri, 21 Feb 2025) EndedAt: 2025-02-21 02:32:33 -0500 (Fri, 21 Feb 2025) EllapsedTime: 296.5 seconds RetCode: 0 Status: OK CheckDir: syntenet.Rcheck Warnings: 0