Package: syntenet Version: 1.9.1 Command: /home/biocbuild/bbs-3.21-bioc/R/bin/R CMD build --keep-empty-dirs --no-resave-data syntenet StartedAt: 2025-02-20 19:32:19 -0500 (Thu, 20 Feb 2025) EndedAt: 2025-02-20 19:33:54 -0500 (Thu, 20 Feb 2025) EllapsedTime: 95.1 seconds RetCode: 0 Status: OK PackageFile: syntenet_1.9.1.tar.gz PackageFileSize: 2.743 MiB