Package: syntenet Version: 1.9.1 Command: /Library/Frameworks/R.framework/Resources/bin/R CMD build --keep-empty-dirs --no-resave-data syntenet StartedAt: 2025-02-20 17:45:54 -0500 (Thu, 20 Feb 2025) EndedAt: 2025-02-20 17:46:31 -0500 (Thu, 20 Feb 2025) EllapsedTime: 36.4 seconds RetCode: 0 Status: OK PackageFile: syntenet_1.9.1.tar.gz PackageFileSize: 2.817 MiB