Package: syntenet Version: 1.9.1 Command: rm -rf syntenet.buildbin-libdir && mkdir syntenet.buildbin-libdir && /Users/biocbuild/BBS/utils/build-universal.sh syntenet_1.9.1.tar.gz /Library/Frameworks/R.framework/Resources/bin/R syntenet.buildbin-libdir StartedAt: 2025-02-20 22:37:36 -0500 (Thu, 20 Feb 2025) EndedAt: 2025-02-20 22:37:59 -0500 (Thu, 20 Feb 2025) EllapsedTime: 22.6 seconds RetCode: 0 Status: OK PackageFile: syntenet_1.9.1.tgz PackageFileSize: 3.118 MiB