Package: synlet Version: 2.7.0 Command: chmod a+r synlet -R && E:\biocbuild\bbs-3.21-bioc\R\bin\R.exe CMD build --keep-empty-dirs --no-resave-data synlet StartedAt: 2025-02-20 22:10:28 -0500 (Thu, 20 Feb 2025) EndedAt: 2025-02-20 22:11:09 -0500 (Thu, 20 Feb 2025) EllapsedTime: 40.7 seconds RetCode: 0 Status: OK PackageFile: synlet_2.7.0.tar.gz PackageFileSize: 608.2 KiB