Package: synlet Version: 2.7.0 Command: rm -rf synlet.buildbin-libdir && mkdir synlet.buildbin-libdir && E:\biocbuild\bbs-3.21-bioc\R\bin\R.exe CMD INSTALL --build --library=synlet.buildbin-libdir synlet_2.7.0.tar.gz StartedAt: 2025-02-21 09:13:52 -0500 (Fri, 21 Feb 2025) EndedAt: 2025-02-21 09:14:05 -0500 (Fri, 21 Feb 2025) EllapsedTime: 12.9 seconds RetCode: 0 Status: OK PackageFile: synlet_2.7.0.zip PackageFileSize: 659.6 KiB