Package: synlet Version: 2.7.0 Command: /Library/Frameworks/R.framework/Resources/bin/R CMD INSTALL synlet StartedAt: 2025-02-20 15:11:10 -0500 (Thu, 20 Feb 2025) EndedAt: 2025-02-20 15:11:16 -0500 (Thu, 20 Feb 2025) EllapsedTime: 6.2 seconds RetCode: 0 Status: OK