Package: synlet Version: 2.7.0 Command: /Library/Frameworks/R.framework/Resources/bin/R CMD check --install=check:synlet.install-out.txt --library=/Library/Frameworks/R.framework/Resources/library --no-vignettes --timings synlet_2.7.0.tar.gz StartedAt: 2025-02-20 23:40:01 -0500 (Thu, 20 Feb 2025) EndedAt: 2025-02-20 23:40:49 -0500 (Thu, 20 Feb 2025) EllapsedTime: 48.1 seconds RetCode: 0 Status: OK CheckDir: synlet.Rcheck Warnings: 0