Package: synlet Version: 2.7.0 Command: rm -rf synlet.buildbin-libdir && mkdir synlet.buildbin-libdir && /Users/biocbuild/BBS/utils/build-universal.sh synlet_2.7.0.tar.gz /Library/Frameworks/R.framework/Resources/bin/R synlet.buildbin-libdir StartedAt: 2025-02-21 00:56:45 -0500 (Fri, 21 Feb 2025) EndedAt: 2025-02-21 00:56:54 -0500 (Fri, 21 Feb 2025) EllapsedTime: 9.2 seconds RetCode: 0 Status: OK PackageFile: synlet_2.7.0.tgz PackageFileSize: 1.433 MiB