Package: synlet Version: 2.7.0 Command: /Library/Frameworks/R.framework/Resources/bin/R CMD INSTALL synlet StartedAt: 2025-02-19 15:07:10 -0500 (Wed, 19 Feb 2025) EndedAt: 2025-02-19 15:07:12 -0500 (Wed, 19 Feb 2025) EllapsedTime: 2.1 seconds RetCode: 0 Status: OK