Package: synlet Version: 2.7.0 Command: /Library/Frameworks/R.framework/Resources/bin/R CMD build --keep-empty-dirs --no-resave-data synlet StartedAt: 2025-02-19 17:47:21 -0500 (Wed, 19 Feb 2025) EndedAt: 2025-02-19 17:47:32 -0500 (Wed, 19 Feb 2025) EllapsedTime: 10.1 seconds RetCode: 0 Status: OK PackageFile: synlet_2.7.0.tar.gz PackageFileSize: 1.384 MiB