Package: synergyfinder Version: 3.15.0 Command: /Library/Frameworks/R.framework/Resources/bin/R CMD INSTALL synergyfinder StartedAt: 2025-02-19 15:33:30 -0500 (Wed, 19 Feb 2025) EndedAt: 2025-02-19 15:33:39 -0500 (Wed, 19 Feb 2025) EllapsedTime: 9.4 seconds RetCode: 0 Status: OK