Package: synergyfinder Version: 3.15.0 Command: rm -rf synergyfinder.buildbin-libdir && mkdir synergyfinder.buildbin-libdir && /Users/biocbuild/BBS/utils/build-universal.sh synergyfinder_3.15.0.tar.gz /Library/Frameworks/R.framework/Resources/bin/R synergyfinder.buildbin-libdir StartedAt: 2025-02-20 00:57:59 -0500 (Thu, 20 Feb 2025) EndedAt: 2025-02-20 00:58:11 -0500 (Thu, 20 Feb 2025) EllapsedTime: 11.5 seconds RetCode: 0 Status: OK PackageFile: synergyfinder_3.15.0.tgz PackageFileSize: 3.89 MiB