Package: synapter Version: 2.31.0 Command: E:\biocbuild\bbs-3.21-bioc\R\bin\R.exe CMD check --no-multiarch --install=check:synapter.install-out.txt --library=E:\biocbuild\bbs-3.21-bioc\R\library --no-vignettes --timings synapter_2.31.0.tar.gz StartedAt: 2025-02-21 06:22:15 -0500 (Fri, 21 Feb 2025) EndedAt: 2025-02-21 06:29:17 -0500 (Fri, 21 Feb 2025) EllapsedTime: 421.4 seconds RetCode: 0 Status: OK CheckDir: synapter.Rcheck Warnings: 0