Package: synapter Version: 2.31.0 Command: chmod a+r synapter -R && E:\biocbuild\bbs-3.21-bioc\R\bin\R.exe CMD build --keep-empty-dirs --no-resave-data synapter StartedAt: 2025-02-20 22:10:15 -0500 (Thu, 20 Feb 2025) EndedAt: 2025-02-20 22:18:34 -0500 (Thu, 20 Feb 2025) EllapsedTime: 498.5 seconds RetCode: 0 Status: OK PackageFile: synapter_2.31.0.tar.gz PackageFileSize: 2.84 MiB