Package: synapter Version: 2.31.0 Command: /Library/Frameworks/R.framework/Resources/bin/R CMD INSTALL synapter StartedAt: 2025-02-19 15:35:05 -0500 (Wed, 19 Feb 2025) EndedAt: 2025-02-19 15:36:20 -0500 (Wed, 19 Feb 2025) EllapsedTime: 74.9 seconds RetCode: 0 Status: OK