Package: synapsis Version: 1.13.0 Command: E:\biocbuild\bbs-3.21-bioc\R\bin\R.exe CMD INSTALL synapsis StartedAt: 2025-02-17 15:36:29 -0500 (Mon, 17 Feb 2025) EndedAt: 2025-02-17 15:37:15 -0500 (Mon, 17 Feb 2025) EllapsedTime: 46.6 seconds RetCode: 0 Status: OK