Package: synapsis Version: 1.13.0 Command: chmod a+r synapsis -R && E:\biocbuild\bbs-3.21-bioc\R\bin\R.exe CMD build --keep-empty-dirs --no-resave-data synapsis StartedAt: 2025-02-17 21:52:17 -0500 (Mon, 17 Feb 2025) EndedAt: 2025-02-17 21:53:11 -0500 (Mon, 17 Feb 2025) EllapsedTime: 53.7 seconds RetCode: 0 Status: OK PackageFile: synapsis_1.13.0.tar.gz PackageFileSize: 3.726 MiB