Package: synapsis Version: 1.13.0 Command: /home/biocbuild/bbs-3.21-bioc/R/bin/R CMD INSTALL synapsis StartedAt: 2025-02-18 15:11:45 -0500 (Tue, 18 Feb 2025) EndedAt: 2025-02-18 15:11:49 -0500 (Tue, 18 Feb 2025) EllapsedTime: 4.2 seconds RetCode: 0 Status: OK