Package: synapsis Version: 1.13.0 Command: /home/biocbuild/bbs-3.21-bioc/R/bin/R CMD check --install=check:synapsis.install-out.txt --library=/home/biocbuild/bbs-3.21-bioc/R/site-library --timings synapsis_1.13.0.tar.gz StartedAt: 2025-02-19 02:47:11 -0500 (Wed, 19 Feb 2025) EndedAt: 2025-02-19 02:48:02 -0500 (Wed, 19 Feb 2025) EllapsedTime: 51.1 seconds RetCode: 0 Status: OK CheckDir: synapsis.Rcheck Warnings: 0