Package: synapsis Version: 1.13.0 Command: /Library/Frameworks/R.framework/Resources/bin/R CMD INSTALL synapsis StartedAt: 2025-02-17 15:23:58 -0500 (Mon, 17 Feb 2025) EndedAt: 2025-02-17 15:24:05 -0500 (Mon, 17 Feb 2025) EllapsedTime: 7.4 seconds RetCode: 0 Status: OK