Package: switchde Version: 1.33.0 Command: E:\biocbuild\bbs-3.21-bioc\R\bin\R.exe CMD check --no-multiarch --install=check:switchde.install-out.txt --library=E:\biocbuild\bbs-3.21-bioc\R\library --no-vignettes --timings switchde_1.33.0.tar.gz StartedAt: 2025-02-21 06:21:59 -0500 (Fri, 21 Feb 2025) EndedAt: 2025-02-21 06:25:24 -0500 (Fri, 21 Feb 2025) EllapsedTime: 205.7 seconds RetCode: 0 Status: OK CheckDir: switchde.Rcheck Warnings: 0