Package: switchde Version: 1.33.0 Command: chmod a+r switchde -R && E:\biocbuild\bbs-3.21-bioc\R\bin\R.exe CMD build --keep-empty-dirs --no-resave-data switchde StartedAt: 2025-02-20 22:09:51 -0500 (Thu, 20 Feb 2025) EndedAt: 2025-02-20 22:10:49 -0500 (Thu, 20 Feb 2025) EllapsedTime: 57.9 seconds RetCode: 0 Status: OK PackageFile: switchde_1.33.0.tar.gz PackageFileSize: 489.3 KiB