Package: switchBox Version: 1.43.0 Command: rm -rf switchBox.buildbin-libdir && mkdir switchBox.buildbin-libdir && E:\biocbuild\bbs-3.21-bioc\R\bin\R.exe CMD INSTALL --build --library=switchBox.buildbin-libdir switchBox_1.43.0.tar.gz StartedAt: 2025-02-19 08:32:22 -0500 (Wed, 19 Feb 2025) EndedAt: 2025-02-19 08:32:53 -0500 (Wed, 19 Feb 2025) EllapsedTime: 31.2 seconds RetCode: 0 Status: OK PackageFile: switchBox_1.43.0.zip PackageFileSize: 650.5 KiB