Package: switchBox Version: 1.43.0 Command: /Library/Frameworks/R.framework/Resources/bin/R CMD check --install=check:switchBox.install-out.txt --library=/Library/Frameworks/R.framework/Resources/library --no-vignettes --timings switchBox_1.43.0.tar.gz StartedAt: 2025-02-18 23:33:56 -0500 (Tue, 18 Feb 2025) EndedAt: 2025-02-18 23:34:43 -0500 (Tue, 18 Feb 2025) EllapsedTime: 47.1 seconds RetCode: 0 Status: WARNINGS CheckDir: switchBox.Rcheck Warnings: 3