Package: switchBox Version: 1.43.0 Command: /home/biocbuild/R/R/bin/R CMD build --keep-empty-dirs --no-resave-data switchBox StartedAt: 2025-01-28 02:50:12 -0000 (Tue, 28 Jan 2025) EndedAt: 2025-01-28 02:50:24 -0000 (Tue, 28 Jan 2025) EllapsedTime: 12.0 seconds RetCode: 0 Status: OK PackageFile: switchBox_1.43.0.tar.gz PackageFileSize: 463 KiB