Package: switchBox Version: 1.43.0 Command: rm -rf switchBox.buildbin-libdir && mkdir switchBox.buildbin-libdir && /Users/biocbuild/BBS/utils/build-universal.sh switchBox_1.43.0.tar.gz /Library/Frameworks/R.framework/Resources/bin/R switchBox.buildbin-libdir StartedAt: 2025-02-18 22:40:11 -0500 (Tue, 18 Feb 2025) EndedAt: 2025-02-18 22:40:15 -0500 (Tue, 18 Feb 2025) EllapsedTime: 4.1 seconds RetCode: 0 Status: OK PackageFile: switchBox_1.43.0.tgz PackageFileSize: 643.5 KiB