Package: swfdr Version: 1.33.0 Command: E:\biocbuild\bbs-3.21-bioc\R\bin\R.exe CMD INSTALL swfdr StartedAt: 2025-02-20 15:19:35 -0500 (Thu, 20 Feb 2025) EndedAt: 2025-02-20 15:19:44 -0500 (Thu, 20 Feb 2025) EllapsedTime: 9.5 seconds RetCode: 0 Status: OK