Package: swfdr Version: 1.33.0 Command: chmod a+r swfdr -R && E:\biocbuild\bbs-3.21-bioc\R\bin\R.exe CMD build --keep-empty-dirs --no-resave-data swfdr StartedAt: 2025-02-20 22:09:36 -0500 (Thu, 20 Feb 2025) EndedAt: 2025-02-20 22:10:57 -0500 (Thu, 20 Feb 2025) EllapsedTime: 80.5 seconds RetCode: 0 Status: OK PackageFile: swfdr_1.33.0.tar.gz PackageFileSize: 1.208 MiB