Package: swfdr Version: 1.33.0 Command: rm -rf swfdr.buildbin-libdir && mkdir swfdr.buildbin-libdir && E:\biocbuild\bbs-3.21-bioc\R\bin\R.exe CMD INSTALL --build --library=swfdr.buildbin-libdir swfdr_1.33.0.tar.gz StartedAt: 2025-02-21 09:13:39 -0500 (Fri, 21 Feb 2025) EndedAt: 2025-02-21 09:13:46 -0500 (Fri, 21 Feb 2025) EllapsedTime: 7.8 seconds RetCode: 0 Status: OK PackageFile: swfdr_1.33.0.zip PackageFileSize: 1.437 MiB