Package: swfdr Version: 1.33.0 Command: /home/biocbuild/bbs-3.21-bioc/R/bin/R CMD INSTALL swfdr StartedAt: 2025-02-20 15:05:44 -0500 (Thu, 20 Feb 2025) EndedAt: 2025-02-20 15:05:47 -0500 (Thu, 20 Feb 2025) EllapsedTime: 2.8 seconds RetCode: 0 Status: OK