Package: swfdr Version: 1.33.0 Command: /home/biocbuild/bbs-3.21-bioc/R/bin/R CMD check --install=check:swfdr.install-out.txt --library=/home/biocbuild/bbs-3.21-bioc/R/site-library --timings swfdr_1.33.0.tar.gz StartedAt: 2025-02-21 02:25:56 -0500 (Fri, 21 Feb 2025) EndedAt: 2025-02-21 02:27:05 -0500 (Fri, 21 Feb 2025) EllapsedTime: 69.1 seconds RetCode: 0 Status: WARNINGS CheckDir: swfdr.Rcheck Warnings: 1