Package: swfdr Version: 1.33.0 Command: /Library/Frameworks/R.framework/Resources/bin/R CMD build --keep-empty-dirs --no-resave-data swfdr StartedAt: 2025-02-20 18:28:03 -0500 (Thu, 20 Feb 2025) EndedAt: 2025-02-20 18:29:06 -0500 (Thu, 20 Feb 2025) EllapsedTime: 62.9 seconds RetCode: 0 Status: OK PackageFile: swfdr_1.33.0.tar.gz PackageFileSize: 1.203 MiB