Package: swfdr Version: 1.33.0 Command: /home/biocbuild/R/R/bin/R CMD check --install=check:swfdr.install-out.txt --library=/home/biocbuild/R/R/site-library --no-vignettes --timings swfdr_1.33.0.tar.gz StartedAt: 2025-01-28 15:57:08 -0000 (Tue, 28 Jan 2025) EndedAt: 2025-01-28 15:57:35 -0000 (Tue, 28 Jan 2025) EllapsedTime: 27.0 seconds RetCode: 0 Status: WARNINGS CheckDir: swfdr.Rcheck Warnings: 1