Package: swfdr Version: 1.34.0 Command: /Library/Frameworks/R.framework/Resources/bin/R CMD INSTALL swfdr StartedAt: 2025-10-09 15:11:56 -0400 (Thu, 09 Oct 2025) EndedAt: 2025-10-09 15:12:04 -0400 (Thu, 09 Oct 2025) EllapsedTime: 7.9 seconds RetCode: 0 Status: OK