Package: svaRetro Version: 1.13.0 Command: /Library/Frameworks/R.framework/Resources/bin/R CMD build --keep-empty-dirs --no-resave-data svaRetro StartedAt: 2025-02-18 18:25:35 -0500 (Tue, 18 Feb 2025) EndedAt: 2025-02-18 18:27:05 -0500 (Tue, 18 Feb 2025) EllapsedTime: 89.2 seconds RetCode: 0 Status: OK PackageFile: svaRetro_1.13.0.tar.gz PackageFileSize: 1.533 MiB