Package: svaNUMT Version: 1.13.0 Command: rm -rf svaNUMT.buildbin-libdir && mkdir svaNUMT.buildbin-libdir && E:\biocbuild\bbs-3.21-bioc\R\bin\R.exe CMD INSTALL --build --library=svaNUMT.buildbin-libdir svaNUMT_1.13.0.tar.gz StartedAt: 2025-02-21 09:13:19 -0500 (Fri, 21 Feb 2025) EndedAt: 2025-02-21 09:14:01 -0500 (Fri, 21 Feb 2025) EllapsedTime: 42.4 seconds RetCode: 0 Status: OK PackageFile: svaNUMT_1.13.0.zip PackageFileSize: 632.3 KiB