Package: svaNUMT Version: 1.13.0 Command: rm -rf svaNUMT.buildbin-libdir && mkdir svaNUMT.buildbin-libdir && /Users/biocbuild/BBS/utils/build-universal.sh svaNUMT_1.13.0.tar.gz /Library/Frameworks/R.framework/Resources/bin/R svaNUMT.buildbin-libdir StartedAt: 2025-02-21 00:56:31 -0500 (Fri, 21 Feb 2025) EndedAt: 2025-02-21 00:57:27 -0500 (Fri, 21 Feb 2025) EllapsedTime: 56.6 seconds RetCode: 0 Status: OK PackageFile: svaNUMT_1.13.0.tgz PackageFileSize: 754.4 KiB