Package: svaNUMT Version: 1.13.0 Command: /Library/Frameworks/R.framework/Resources/bin/R CMD INSTALL svaNUMT StartedAt: 2025-02-20 15:11:21 -0500 (Thu, 20 Feb 2025) EndedAt: 2025-02-20 15:11:37 -0500 (Thu, 20 Feb 2025) EllapsedTime: 16.7 seconds RetCode: 0 Status: OK